BEGIN:VCALENDAR
VERSION:2.0
PRODID:-//eventon.com NONSGML v1.0//EN
CALSCALE:GREGORIAN
METHOD:PUBLISH
BEGIN:VEVENT
UID:69ecbbc6e9170
DTSTAMP:20260425T130406Z
DTSTART:20250311
DTEND:20250312
LOCATION:Pine Lake Environmental Campus 1894 Charlotte Creek Road
SUMMARY:Conference & Endorsement Training: Habitat & Ecosystems Land Pro (HELP)
DESCRIPTION:Learn About Using Native Plants &amp; Supporting Natural Habita
 ts Through Landscaping Delaware-Otsego Audubon Society is proud to organize
  the Habitat &amp; Ecosystems Land Pro (HELP) Conference &amp; Endorsement 
 Training. The HELP program features new curriculum developed and presented 
 by the Theodore Roosevelt Sanctuary and Audubon Center. Join us for this[..
 ]\nhttps://doas.us/events/conference-endorsement-training-habitat-ecosystem
 s-land-pro-help/
URL:https://doas.us/events/conference-endorsement-training-habitat-ecosystems-land-pro-help/
END:VEVENT
END:VCALENDAR